BEGIN:VCALENDAR
VERSION:2.0
PRODID:-//AMIS OSR - ECPv5.9.2//NONSGML v1.0//EN
CALSCALE:GREGORIAN
METHOD:PUBLISH
X-WR-CALNAME:AMIS OSR
X-ORIGINAL-URL:https://amisosr.ch
X-WR-CALDESC:évènements pour AMIS OSR
BEGIN:VTIMEZONE
TZID:Europe/Paris
BEGIN:DAYLIGHT
TZOFFSETFROM:+0100
TZOFFSETTO:+0200
TZNAME:CEST
DTSTART:20220327T010000
END:DAYLIGHT
BEGIN:STANDARD
TZOFFSETFROM:+0200
TZOFFSETTO:+0100
TZNAME:CET
DTSTART:20221030T010000
END:STANDARD
END:VTIMEZONE
BEGIN:VEVENT
DTSTART;TZID=Europe/Paris:20220216T100000
DTEND;TZID=Europe/Paris:20220216T130000
DTSTAMP:20260420T175829
CREATED:20210531T154148Z
LAST-MODIFIED:20220215T155017Z
UID:1681-1645005600-1645016400@amisosr.ch
SUMMARY:Répétition générale 6
DESCRIPTION:Jonathan NOTT\, direction \nLoïc SCHNEIDER\, flûte \n  \nJacques IBERT\nConcerto pour flûte et orchestre \nGustav MAHLER\nSymphonie N° 5 en ut dièse mineur
URL:https://amisosr.ch/event/repetition-generale-6-2/
LOCATION:Victoria Hall\, Rue du Général-Dufour 14\, 1204 Genève\, Suisse
CATEGORIES:Saison 2021-2022
ATTACH;FMTTYPE=image/jpeg:https://amisosr.ch/wp-content/uploads/2022/02/Western_concert_flute_Yamaha.jpg
END:VEVENT
END:VCALENDAR