BEGIN:VCALENDAR
VERSION:2.0
PRODID:-//AMIS OSR - ECPv5.9.2//NONSGML v1.0//EN
CALSCALE:GREGORIAN
METHOD:PUBLISH
X-WR-CALNAME:AMIS OSR
X-ORIGINAL-URL:https://amisosr.ch
X-WR-CALDESC:évènements pour AMIS OSR
BEGIN:VTIMEZONE
TZID:Europe/Paris
BEGIN:DAYLIGHT
TZOFFSETFROM:+0100
TZOFFSETTO:+0200
TZNAME:CEST
DTSTART:20200329T010000
END:DAYLIGHT
BEGIN:STANDARD
TZOFFSETFROM:+0200
TZOFFSETTO:+0100
TZNAME:CET
DTSTART:20201025T010000
END:STANDARD
END:VTIMEZONE
BEGIN:VEVENT
DTSTART;TZID=Europe/Paris:20200422T100000
DTEND;TZID=Europe/Paris:20200422T130000
DTSTAMP:20260420T101252
CREATED:20190620T140855Z
LAST-MODIFIED:20200420T091518Z
UID:767-1587549600-1587560400@amisosr.ch
SUMMARY:Répétition générale
DESCRIPTION:Suite aux décisions prises par le Conseil fédéral\, cette répétition générale est annulée.\n  \nMatthias Pintscher\, direction\nLeila Josefowicz\, violon\nAgneta Eichenholz\, soprano\nDelphine Haidan\, soprano\nZürcher Sing-Akademie\, direction Andreas Felber \nAlban Berg\nConcerto pour violon et orchestre dit ‘A la mémoire d’un ange’\nFélix Mendelssohn\nSonge d’une nuit d’été\, ouverture op. 21 et musique de scène op. 61 \n 
URL:https://amisosr.ch/event/repetition-generale-11/
LOCATION:Victoria Hall\, Rue du Général-Dufour 14\, 1204 Genève\, Suisse
CATEGORIES:Saison 2019-2020
ATTACH;FMTTYPE=image/jpeg:https://amisosr.ch/wp-content/uploads/2019/06/LJ_ChrisLee.jpg
END:VEVENT
END:VCALENDAR