BEGIN:VCALENDAR
VERSION:2.0
PRODID:-//AMIS OSR - ECPv5.9.2//NONSGML v1.0//EN
CALSCALE:GREGORIAN
METHOD:PUBLISH
X-WR-CALNAME:AMIS OSR
X-ORIGINAL-URL:https://amisosr.ch
X-WR-CALDESC:évènements pour AMIS OSR
BEGIN:VTIMEZONE
TZID:Europe/Paris
BEGIN:DAYLIGHT
TZOFFSETFROM:+0100
TZOFFSETTO:+0200
TZNAME:CEST
DTSTART:20220327T010000
END:DAYLIGHT
BEGIN:STANDARD
TZOFFSETFROM:+0200
TZOFFSETTO:+0100
TZNAME:CET
DTSTART:20221030T010000
END:STANDARD
END:VTIMEZONE
BEGIN:VEVENT
DTSTART;TZID=Europe/Paris:20220411T183000
DTEND;TZID=Europe/Paris:20220411T203000
DTSTAMP:20260423T101438
CREATED:20210507T093537Z
LAST-MODIFIED:20220411T125912Z
UID:1712-1649701800-1649709000@amisosr.ch
SUMMARY:Le scandale du Sacre du printemps
DESCRIPTION:Animée par Richard Cole \nLa musique du 20e siècle : Le scandale du Sacre du printemps \nQualifiée de « tremblement de terre qui a bouleversé l’histoire de la musique »\, œuvre charnière de la musique moderne s’il en est\, Le Sacre du printemps d’Igor Stravinski continue à ravir\, à déranger et à faire s’interroger plus d’un siècle après sa création plus que mouvementée. Tous les mystères autour de sa genèse ne sont pas encore élucidés\, loin de là. Le musicologue Richard Cole retrace les différentes sources d’une partition pas comme les autres et l’ambiance de sa première audition au Théâtre des Champs-Élysées.
URL:https://amisosr.ch/event/conference-1/
LOCATION:Salle Marie Laggé\, Boulevard Carl-Vogt 102\, Genève\, Suisse
CATEGORIES:Saison 2021-2022
ATTACH;FMTTYPE=image/jpeg:https://amisosr.ch/wp-content/uploads/2020/06/stravinsky.jpg
END:VEVENT
END:VCALENDAR