BEGIN:VCALENDAR
VERSION:2.0
PRODID:-//AMIS OSR - ECPv5.9.2//NONSGML v1.0//EN
CALSCALE:GREGORIAN
METHOD:PUBLISH
X-WR-CALNAME:AMIS OSR
X-ORIGINAL-URL:https://amisosr.ch
X-WR-CALDESC:évènements pour AMIS OSR
BEGIN:VTIMEZONE
TZID:Europe/Paris
BEGIN:DAYLIGHT
TZOFFSETFROM:+0100
TZOFFSETTO:+0200
TZNAME:CEST
DTSTART:20190331T010000
END:DAYLIGHT
BEGIN:STANDARD
TZOFFSETFROM:+0200
TZOFFSETTO:+0100
TZNAME:CET
DTSTART:20191027T010000
END:STANDARD
END:VTIMEZONE
BEGIN:VEVENT
DTSTART;TZID=Europe/Paris:20190920T123000
DTEND;TZID=Europe/Paris:20190920T133000
DTSTAMP:20260422T102131
CREATED:20190619T133753Z
LAST-MODIFIED:20190621T133035Z
UID:696-1568982600-1568986200@amisosr.ch
SUMMARY:Concert Les Midis de l'OSR -1
DESCRIPTION:Pierre Bleuse\, direction\nClémentine Margaine\, mezzo-soprano\nCorinne Schneider\, présentation\nHector Berlioz\nNuits d’été op. 7 (N°1\, 3\, 4 et 6)\nLudwig van Beethoven\nSymphonie N°1 en ut majeur op. 21 \nInscriptions : 16 et 17 septembre
URL:https://amisosr.ch/event/concert-les-midis-de-losr-1/
LOCATION:Victoria Hall\, Rue du Général-Dufour 14\, 1204 Genève\, Suisse
CATEGORIES:Saison 2019-2020
ATTACH;FMTTYPE=image/jpeg:https://amisosr.ch/wp-content/uploads/2019/06/PIERRE-BLEUSE-133.jpg
END:VEVENT
END:VCALENDAR